BEGIN:VCALENDAR
VERSION:2.0
PRODID:-//Freiwillige Feuerwehr Berlin Gatow - ECPv6.15.20//NONSGML v1.0//EN
CALSCALE:GREGORIAN
METHOD:PUBLISH
X-WR-CALNAME:Freiwillige Feuerwehr Berlin Gatow
X-ORIGINAL-URL:https://www.freiwillige-feuerwehr-gatow.de
X-WR-CALDESC:Veranstaltungen für Freiwillige Feuerwehr Berlin Gatow
REFRESH-INTERVAL;VALUE=DURATION:PT1H
X-Robots-Tag:noindex
X-PUBLISHED-TTL:PT1H
BEGIN:VTIMEZONE
TZID:Europe/Berlin
BEGIN:DAYLIGHT
TZOFFSETFROM:+0100
TZOFFSETTO:+0200
TZNAME:CEST
DTSTART:20250330T010000
END:DAYLIGHT
BEGIN:STANDARD
TZOFFSETFROM:+0200
TZOFFSETTO:+0100
TZNAME:CET
DTSTART:20251026T010000
END:STANDARD
BEGIN:DAYLIGHT
TZOFFSETFROM:+0100
TZOFFSETTO:+0200
TZNAME:CEST
DTSTART:20260329T010000
END:DAYLIGHT
BEGIN:STANDARD
TZOFFSETFROM:+0200
TZOFFSETTO:+0100
TZNAME:CET
DTSTART:20261025T010000
END:STANDARD
BEGIN:DAYLIGHT
TZOFFSETFROM:+0100
TZOFFSETTO:+0200
TZNAME:CEST
DTSTART:20270328T010000
END:DAYLIGHT
BEGIN:STANDARD
TZOFFSETFROM:+0200
TZOFFSETTO:+0100
TZNAME:CET
DTSTART:20271031T010000
END:STANDARD
END:VTIMEZONE
BEGIN:VEVENT
DTSTART;TZID=Europe/Berlin:20260420T180000
DTEND;TZID=Europe/Berlin:20260420T200000
DTSTAMP:20260421T134108
CREATED:20260226T061256Z
LAST-MODIFIED:20260226T061256Z
UID:22971-1776708000-1776715200@www.freiwillige-feuerwehr-gatow.de
SUMMARY:JF Übung
DESCRIPTION:
URL:https://www.freiwillige-feuerwehr-gatow.de/termin/jf-uebung-19/
LOCATION:Feuerwache Gatow\, Gatower Straße 333\, Berlin\, Berlin\, 14089\, Deutschland
CATEGORIES:Jugendfeuerwehr
END:VEVENT
BEGIN:VEVENT
DTSTART;TZID=Europe/Berlin:20260418T150000
DTEND;TZID=Europe/Berlin:20260418T180000
DTSTAMP:20260421T134108
CREATED:20260226T063409Z
LAST-MODIFIED:20260226T063409Z
UID:23019-1776524400-1776535200@www.freiwillige-feuerwehr-gatow.de
SUMMARY:Skat und Kniffel
DESCRIPTION:
URL:https://www.freiwillige-feuerwehr-gatow.de/termin/skat-und-kniffel-3/
LOCATION:Feuerwache Gatow\, Gatower Straße 333\, Berlin\, Berlin\, 14089\, Deutschland
CATEGORIES:Fördergemeinschaft
END:VEVENT
BEGIN:VEVENT
DTSTART;TZID=Europe/Berlin:20260416T193000
DTEND;TZID=Europe/Berlin:20260416T223000
DTSTAMP:20260421T134108
CREATED:20260226T055755Z
LAST-MODIFIED:20260226T055755Z
UID:22917-1776367800-1776378600@www.freiwillige-feuerwehr-gatow.de
SUMMARY:FF Übung
DESCRIPTION:
URL:https://www.freiwillige-feuerwehr-gatow.de/termin/ff-uebung-13/
LOCATION:Feuerwache Gatow\, Gatower Straße 333\, Berlin\, Berlin\, 14089\, Deutschland
CATEGORIES:Freiwillige Feuerwehr
END:VEVENT
BEGIN:VEVENT
DTSTART;TZID=Europe/Berlin:20260415T180000
DTEND;TZID=Europe/Berlin:20260415T200000
DTSTAMP:20260421T134108
CREATED:20260226T061235Z
LAST-MODIFIED:20260226T061235Z
UID:22968-1776276000-1776283200@www.freiwillige-feuerwehr-gatow.de
SUMMARY:JF Übung
DESCRIPTION:
URL:https://www.freiwillige-feuerwehr-gatow.de/termin/jf-uebung-18/
LOCATION:Berlin
CATEGORIES:Jugendfeuerwehr
END:VEVENT
BEGIN:VEVENT
DTSTART;TZID=Europe/Berlin:20260404T150000
DTEND;TZID=Europe/Berlin:20260404T210000
DTSTAMP:20260421T134108
CREATED:20260225T155727Z
LAST-MODIFIED:20260327T114642Z
UID:22891-1775314800-1775336400@www.freiwillige-feuerwehr-gatow.de
SUMMARY:Osterfeuer 2026
DESCRIPTION:  \nOsterfeuer: 4. April 2026\n\nUm 15:00 Uhr geht es los.\nUm 16:00 Uhr gibt es die Ostereiersuche für Kinder\nGegen 17:00 Uhr wird das Feuer entzündet.\nDas Mitbringen von Getränken ist nicht gestattet.\n\n\n\n\nÖffentliche Verkehrsmittel\nLeider stehen nicht genügend Parkplätze zur Verfügung. Wir bitten Sie daher\, die öffentlichen Verkehrsmittel zu benutzen. \n\nX34 bis Gatow Kirche oder Pfirsichweg*\n134 bis Gatow Kirche oder Pfirsichweg\n\n*Zusatzhalt 11:00-19:00 Uhr \n\nVeranstalter ist die Fördergemeinschaft der Freiwilligen Feuerwehr Berlin Gatow e.V.
URL:https://www.freiwillige-feuerwehr-gatow.de/termin/osterfeuer-2026/
LOCATION:Osterfeuer\, Buchwaldzeile / Straße 265\, Berlin\, Berlin\, 14089\, Deutschland
CATEGORIES:Fördergemeinschaft,Freiwillige Feuerwehr,Jugendfeuerwehr,Osterfeuer
ATTACH;FMTTYPE=image/jpeg:https://www.freiwillige-feuerwehr-gatow.de/wp-content/uploads/2026/02/Banner_netz.jpg
END:VEVENT
BEGIN:VEVENT
DTSTART;TZID=Europe/Berlin:20260402T193000
DTEND;TZID=Europe/Berlin:20260402T223000
DTSTAMP:20260421T134108
CREATED:20260226T055728Z
LAST-MODIFIED:20260226T055728Z
UID:22915-1775158200-1775169000@www.freiwillige-feuerwehr-gatow.de
SUMMARY:FF Übung
DESCRIPTION:
URL:https://www.freiwillige-feuerwehr-gatow.de/termin/ff-uebung-12/
LOCATION:Feuerwache Gatow\, Gatower Straße 333\, Berlin\, Berlin\, 14089\, Deutschland
CATEGORIES:Freiwillige Feuerwehr
END:VEVENT
BEGIN:VEVENT
DTSTART;TZID=Europe/Berlin:20260327T180000
DTEND;TZID=Europe/Berlin:20260327T200000
DTSTAMP:20260421T134108
CREATED:20260226T061111Z
LAST-MODIFIED:20260226T061111Z
UID:22966-1774634400-1774641600@www.freiwillige-feuerwehr-gatow.de
SUMMARY:JF Übung
DESCRIPTION:
URL:https://www.freiwillige-feuerwehr-gatow.de/termin/jf-uebung-17/
LOCATION:Feuerwache Gatow\, Gatower Straße 333\, Berlin\, Berlin\, 14089\, Deutschland
CATEGORIES:Jugendfeuerwehr
END:VEVENT
BEGIN:VEVENT
DTSTART;TZID=Europe/Berlin:20260323T180000
DTEND;TZID=Europe/Berlin:20260323T200000
DTSTAMP:20260421T134108
CREATED:20260226T061050Z
LAST-MODIFIED:20260226T061050Z
UID:22963-1774288800-1774296000@www.freiwillige-feuerwehr-gatow.de
SUMMARY:JF Übung
DESCRIPTION:
URL:https://www.freiwillige-feuerwehr-gatow.de/termin/jf-uebung-16/
LOCATION:Feuerwache Gatow\, Gatower Straße 333\, Berlin\, Berlin\, 14089\, Deutschland
CATEGORIES:Jugendfeuerwehr
END:VEVENT
BEGIN:VEVENT
DTSTART;TZID=Europe/Berlin:20260320T190000
DTEND;TZID=Europe/Berlin:20260320T210000
DTSTAMP:20260421T134108
CREATED:20260226T063341Z
LAST-MODIFIED:20260226T063341Z
UID:23017-1774033200-1774040400@www.freiwillige-feuerwehr-gatow.de
SUMMARY:Mitgliederversammlung der Fördergemeinschaft der freiwilligen Feuerwehr Berlin – Gatow e.V.
DESCRIPTION:
URL:https://www.freiwillige-feuerwehr-gatow.de/termin/mitgliederversammlung-der-foerdergemeinschaft-der-freiwilligen-feuerwehr-berlin-gatow-e-v-2/
LOCATION:Feuerwache Gatow\, Gatower Straße 333\, Berlin\, Berlin\, 14089\, Deutschland
CATEGORIES:Fördergemeinschaft
END:VEVENT
BEGIN:VEVENT
DTSTART;TZID=Europe/Berlin:20260319T193000
DTEND;TZID=Europe/Berlin:20260319T223000
DTSTAMP:20260421T134108
CREATED:20260226T055656Z
LAST-MODIFIED:20260226T055656Z
UID:22913-1773948600-1773959400@www.freiwillige-feuerwehr-gatow.de
SUMMARY:FF Übung
DESCRIPTION:
URL:https://www.freiwillige-feuerwehr-gatow.de/termin/ff-uebung-11/
LOCATION:Feuerwache Gatow\, Gatower Straße 333\, Berlin\, Berlin\, 14089\, Deutschland
CATEGORIES:Freiwillige Feuerwehr
END:VEVENT
BEGIN:VEVENT
DTSTART;TZID=Europe/Berlin:20260318T180000
DTEND;TZID=Europe/Berlin:20260318T200000
DTSTAMP:20260421T134108
CREATED:20260226T061026Z
LAST-MODIFIED:20260226T061026Z
UID:22961-1773856800-1773864000@www.freiwillige-feuerwehr-gatow.de
SUMMARY:JF Übung
DESCRIPTION:
URL:https://www.freiwillige-feuerwehr-gatow.de/termin/jf-uebung-15/
LOCATION:Feuerwache Gatow\, Gatower Straße 333\, Berlin\, Berlin\, 14089\, Deutschland
CATEGORIES:Jugendfeuerwehr
END:VEVENT
BEGIN:VEVENT
DTSTART;TZID=Europe/Berlin:20260314T150000
DTEND;TZID=Europe/Berlin:20260314T180000
DTSTAMP:20260421T134108
CREATED:20260226T063258Z
LAST-MODIFIED:20260226T063258Z
UID:23015-1773500400-1773511200@www.freiwillige-feuerwehr-gatow.de
SUMMARY:Skat und Kniffel
DESCRIPTION:
URL:https://www.freiwillige-feuerwehr-gatow.de/termin/skat-und-kniffel-2/
LOCATION:Feuerwache Gatow\, Gatower Straße 333\, Berlin\, Berlin\, 14089\, Deutschland
CATEGORIES:Fördergemeinschaft
END:VEVENT
BEGIN:VEVENT
DTSTART;TZID=Europe/Berlin:20260313T180000
DTEND;TZID=Europe/Berlin:20260313T200000
DTSTAMP:20260421T134108
CREATED:20260226T061004Z
LAST-MODIFIED:20260226T061004Z
UID:22959-1773424800-1773432000@www.freiwillige-feuerwehr-gatow.de
SUMMARY:JF Übung
DESCRIPTION:
URL:https://www.freiwillige-feuerwehr-gatow.de/termin/jf-uebung-14/
LOCATION:Feuerwache Gatow\, Gatower Straße 333\, Berlin\, Berlin\, 14089\, Deutschland
CATEGORIES:Jugendfeuerwehr
END:VEVENT
BEGIN:VEVENT
DTSTART;TZID=Europe/Berlin:20260309T180000
DTEND;TZID=Europe/Berlin:20260309T200000
DTSTAMP:20260421T134108
CREATED:20260226T060942Z
LAST-MODIFIED:20260226T060942Z
UID:22957-1773079200-1773086400@www.freiwillige-feuerwehr-gatow.de
SUMMARY:JF Übung
DESCRIPTION:
URL:https://www.freiwillige-feuerwehr-gatow.de/termin/jf-uebung-13/
LOCATION:Feuerwache Gatow\, Gatower Straße 333\, Berlin\, Berlin\, 14089\, Deutschland
CATEGORIES:Jugendfeuerwehr
END:VEVENT
BEGIN:VEVENT
DTSTART;TZID=Europe/Berlin:20260305T193000
DTEND;TZID=Europe/Berlin:20260305T223000
DTSTAMP:20260421T134108
CREATED:20260226T055624Z
LAST-MODIFIED:20260226T055624Z
UID:22911-1772739000-1772749800@www.freiwillige-feuerwehr-gatow.de
SUMMARY:FF Übung
DESCRIPTION:
URL:https://www.freiwillige-feuerwehr-gatow.de/termin/ff-uebung-10/
LOCATION:Feuerwache Gatow\, Gatower Straße 333\, Berlin\, Berlin\, 14089\, Deutschland
CATEGORIES:Freiwillige Feuerwehr
END:VEVENT
BEGIN:VEVENT
DTSTART;TZID=Europe/Berlin:20260304T180000
DTEND;TZID=Europe/Berlin:20260304T200000
DTSTAMP:20260421T134108
CREATED:20260226T060921Z
LAST-MODIFIED:20260226T060921Z
UID:22955-1772647200-1772654400@www.freiwillige-feuerwehr-gatow.de
SUMMARY:JF Übung
DESCRIPTION:
URL:https://www.freiwillige-feuerwehr-gatow.de/termin/jf-uebung-12/
LOCATION:Feuerwache Gatow\, Gatower Straße 333\, Berlin\, Berlin\, 14089\, Deutschland
CATEGORIES:Jugendfeuerwehr
END:VEVENT
BEGIN:VEVENT
DTSTART;TZID=Europe/Berlin:20260227T180000
DTEND;TZID=Europe/Berlin:20260227T200000
DTSTAMP:20260421T134108
CREATED:20260226T060856Z
LAST-MODIFIED:20260226T060856Z
UID:22953-1772215200-1772222400@www.freiwillige-feuerwehr-gatow.de
SUMMARY:JF Übung
DESCRIPTION:
URL:https://www.freiwillige-feuerwehr-gatow.de/termin/jf-uebung-11/
LOCATION:Feuerwache Gatow\, Gatower Straße 333\, Berlin\, Berlin\, 14089\, Deutschland
CATEGORIES:Jugendfeuerwehr
END:VEVENT
BEGIN:VEVENT
DTSTART;TZID=Europe/Berlin:20260223T180000
DTEND;TZID=Europe/Berlin:20260223T200000
DTSTAMP:20260421T134108
CREATED:20260226T060835Z
LAST-MODIFIED:20260226T060835Z
UID:22951-1771869600-1771876800@www.freiwillige-feuerwehr-gatow.de
SUMMARY:JF Übung
DESCRIPTION:
URL:https://www.freiwillige-feuerwehr-gatow.de/termin/jf-uebung-10/
LOCATION:Feuerwache Gatow\, Gatower Straße 333\, Berlin\, Berlin\, 14089\, Deutschland
CATEGORIES:Jugendfeuerwehr
END:VEVENT
BEGIN:VEVENT
DTSTART;TZID=Europe/Berlin:20260221T150000
DTEND;TZID=Europe/Berlin:20260221T190000
DTSTAMP:20260421T134108
CREATED:20260226T063135Z
LAST-MODIFIED:20260226T063135Z
UID:23013-1771686000-1771700400@www.freiwillige-feuerwehr-gatow.de
SUMMARY:Tischtennis-Turnier
DESCRIPTION:
URL:https://www.freiwillige-feuerwehr-gatow.de/termin/tischtennis-turnier/
LOCATION:Feuerwache Gatow\, Gatower Straße 333\, Berlin\, Berlin\, 14089\, Deutschland
CATEGORIES:Fördergemeinschaft
END:VEVENT
BEGIN:VEVENT
DTSTART;TZID=Europe/Berlin:20260219T193000
DTEND;TZID=Europe/Berlin:20260219T223000
DTSTAMP:20260421T134108
CREATED:20260226T055558Z
LAST-MODIFIED:20260226T055558Z
UID:22909-1771529400-1771540200@www.freiwillige-feuerwehr-gatow.de
SUMMARY:FF Übung
DESCRIPTION:
URL:https://www.freiwillige-feuerwehr-gatow.de/termin/ff-uebung-9/
LOCATION:Feuerwache Gatow\, Gatower Straße 333\, Berlin\, Berlin\, 14089\, Deutschland
CATEGORIES:Freiwillige Feuerwehr
END:VEVENT
BEGIN:VEVENT
DTSTART;TZID=Europe/Berlin:20260218T180000
DTEND;TZID=Europe/Berlin:20260218T200000
DTSTAMP:20260421T134108
CREATED:20260226T060815Z
LAST-MODIFIED:20260226T060815Z
UID:22948-1771437600-1771444800@www.freiwillige-feuerwehr-gatow.de
SUMMARY:JF Übung
DESCRIPTION:
URL:https://www.freiwillige-feuerwehr-gatow.de/termin/jf-uebung-9/
LOCATION:Feuerwache Gatow\, Gatower Straße 333\, Berlin\, Berlin\, 14089\, Deutschland
CATEGORIES:Jugendfeuerwehr
END:VEVENT
BEGIN:VEVENT
DTSTART;TZID=Europe/Berlin:20260214T150000
DTEND;TZID=Europe/Berlin:20260214T180000
DTSTAMP:20260421T134108
CREATED:20260226T063048Z
LAST-MODIFIED:20260226T063226Z
UID:23011-1771081200-1771092000@www.freiwillige-feuerwehr-gatow.de
SUMMARY:Skat und Kniffel
DESCRIPTION:
URL:https://www.freiwillige-feuerwehr-gatow.de/termin/skat-und-kniffel/
LOCATION:Feuerwache Gatow\, Gatower Straße 333\, Berlin\, Berlin\, 14089\, Deutschland
CATEGORIES:Fördergemeinschaft
END:VEVENT
BEGIN:VEVENT
DTSTART;TZID=Europe/Berlin:20260213T180000
DTEND;TZID=Europe/Berlin:20260213T200000
DTSTAMP:20260421T134108
CREATED:20260226T060756Z
LAST-MODIFIED:20260226T060756Z
UID:22945-1771005600-1771012800@www.freiwillige-feuerwehr-gatow.de
SUMMARY:JF Übung
DESCRIPTION:
URL:https://www.freiwillige-feuerwehr-gatow.de/termin/jf-uebung-8/
LOCATION:Feuerwache Gatow\, Gatower Straße 333\, Berlin\, Berlin\, 14089\, Deutschland
CATEGORIES:Jugendfeuerwehr
END:VEVENT
BEGIN:VEVENT
DTSTART;TZID=Europe/Berlin:20260209T180000
DTEND;TZID=Europe/Berlin:20260209T200000
DTSTAMP:20260421T134108
CREATED:20260226T060735Z
LAST-MODIFIED:20260226T060735Z
UID:22943-1770660000-1770667200@www.freiwillige-feuerwehr-gatow.de
SUMMARY:JF Übung
DESCRIPTION:
URL:https://www.freiwillige-feuerwehr-gatow.de/termin/jf-uebung-7/
LOCATION:Feuerwache Gatow\, Gatower Straße 333\, Berlin\, Berlin\, 14089\, Deutschland
CATEGORIES:Jugendfeuerwehr
END:VEVENT
BEGIN:VEVENT
DTSTART;TZID=Europe/Berlin:20260205T193000
DTEND;TZID=Europe/Berlin:20260205T223000
DTSTAMP:20260421T134108
CREATED:20260226T055528Z
LAST-MODIFIED:20260226T055528Z
UID:22907-1770319800-1770330600@www.freiwillige-feuerwehr-gatow.de
SUMMARY:FF Übung
DESCRIPTION:
URL:https://www.freiwillige-feuerwehr-gatow.de/termin/ff-uebung-8/
LOCATION:Feuerwache Gatow\, Gatower Straße 333\, Berlin\, Berlin\, 14089\, Deutschland
CATEGORIES:Freiwillige Feuerwehr
END:VEVENT
BEGIN:VEVENT
DTSTART;TZID=Europe/Berlin:20260130T180000
DTEND;TZID=Europe/Berlin:20260130T200000
DTSTAMP:20260421T134108
CREATED:20260226T060713Z
LAST-MODIFIED:20260226T060713Z
UID:22941-1769796000-1769803200@www.freiwillige-feuerwehr-gatow.de
SUMMARY:JF Übung
DESCRIPTION:
URL:https://www.freiwillige-feuerwehr-gatow.de/termin/jf-uebung-6/
LOCATION:Feuerwache Gatow\, Gatower Straße 333\, Berlin\, Berlin\, 14089\, Deutschland
CATEGORIES:Jugendfeuerwehr
END:VEVENT
BEGIN:VEVENT
DTSTART;TZID=Europe/Berlin:20260126T180000
DTEND;TZID=Europe/Berlin:20260126T200000
DTSTAMP:20260421T134108
CREATED:20260226T060644Z
LAST-MODIFIED:20260226T060644Z
UID:22939-1769450400-1769457600@www.freiwillige-feuerwehr-gatow.de
SUMMARY:JF Übung
DESCRIPTION:
URL:https://www.freiwillige-feuerwehr-gatow.de/termin/jf-uebung-5/
LOCATION:Feuerwache Gatow\, Gatower Straße 333\, Berlin\, Berlin\, 14089\, Deutschland
CATEGORIES:Jugendfeuerwehr
END:VEVENT
BEGIN:VEVENT
DTSTART;TZID=Europe/Berlin:20260122T193000
DTEND;TZID=Europe/Berlin:20260122T223000
DTSTAMP:20260421T134108
CREATED:20260226T055454Z
LAST-MODIFIED:20260226T055454Z
UID:22905-1769110200-1769121000@www.freiwillige-feuerwehr-gatow.de
SUMMARY:FF Übung
DESCRIPTION:
URL:https://www.freiwillige-feuerwehr-gatow.de/termin/ff-uebung-7/
LOCATION:Feuerwache Gatow\, Gatower Straße 333\, Berlin\, Berlin\, 14089\, Deutschland
CATEGORIES:Freiwillige Feuerwehr
END:VEVENT
BEGIN:VEVENT
DTSTART;TZID=Europe/Berlin:20260121T180000
DTEND;TZID=Europe/Berlin:20260121T200000
DTSTAMP:20260421T134108
CREATED:20260226T060619Z
LAST-MODIFIED:20260226T060619Z
UID:22937-1769018400-1769025600@www.freiwillige-feuerwehr-gatow.de
SUMMARY:JF Übung
DESCRIPTION:
URL:https://www.freiwillige-feuerwehr-gatow.de/termin/jf-uebung-4/
LOCATION:Feuerwache Gatow\, Gatower Straße 333\, Berlin\, Berlin\, 14089\, Deutschland
CATEGORIES:Jugendfeuerwehr
END:VEVENT
BEGIN:VEVENT
DTSTART;TZID=Europe/Berlin:20260116T180000
DTEND;TZID=Europe/Berlin:20260116T200000
DTSTAMP:20260421T134108
CREATED:20260226T060545Z
LAST-MODIFIED:20260226T060545Z
UID:22935-1768586400-1768593600@www.freiwillige-feuerwehr-gatow.de
SUMMARY:JF Übung
DESCRIPTION:
URL:https://www.freiwillige-feuerwehr-gatow.de/termin/jf-uebung-3/
LOCATION:Feuerwache Gatow\, Gatower Straße 333\, Berlin\, Berlin\, 14089\, Deutschland
CATEGORIES:Jugendfeuerwehr
END:VEVENT
END:VCALENDAR